BEGIN:VCALENDAR
VERSION:2.0
PRODID:-//Ayuntamiento de Tibi - ECPv6.15.15//NONSGML v1.0//EN
CALSCALE:GREGORIAN
METHOD:PUBLISH
X-ORIGINAL-URL:https://www.tibi.es
X-WR-CALDESC:Eventos para Ayuntamiento de Tibi
REFRESH-INTERVAL;VALUE=DURATION:PT1H
X-Robots-Tag:noindex
X-PUBLISHED-TTL:PT1H
BEGIN:VTIMEZONE
TZID:Europe/Madrid
BEGIN:DAYLIGHT
TZOFFSETFROM:+0100
TZOFFSETTO:+0200
TZNAME:CEST
DTSTART:20180325T010000
END:DAYLIGHT
BEGIN:STANDARD
TZOFFSETFROM:+0200
TZOFFSETTO:+0100
TZNAME:CET
DTSTART:20181028T010000
END:STANDARD
BEGIN:DAYLIGHT
TZOFFSETFROM:+0100
TZOFFSETTO:+0200
TZNAME:CEST
DTSTART:20190331T010000
END:DAYLIGHT
BEGIN:STANDARD
TZOFFSETFROM:+0200
TZOFFSETTO:+0100
TZNAME:CET
DTSTART:20191027T010000
END:STANDARD
BEGIN:DAYLIGHT
TZOFFSETFROM:+0100
TZOFFSETTO:+0200
TZNAME:CEST
DTSTART:20200329T010000
END:DAYLIGHT
BEGIN:STANDARD
TZOFFSETFROM:+0200
TZOFFSETTO:+0100
TZNAME:CET
DTSTART:20201025T010000
END:STANDARD
END:VTIMEZONE
BEGIN:VEVENT
DTSTART;TZID=Europe/Madrid:20191130T083000
DTEND;TZID=Europe/Madrid:20191130T140000
DTSTAMP:20260425T183757
CREATED:20191121T172356Z
LAST-MODIFIED:20241025T093718Z
UID:10000029-1575102600-1575122400@www.tibi.es
SUMMARY:Romería a la Pedrera del "Nostre Senyor Trobat"
DESCRIPTION:PROGRAMA ACTOS \n8’30 h. Mistela y rollos de anís en la Plaza de España\n9’00 h. Inicio de la romería desde la Plaza hasta la Pedrera.\n10’00 h. Almuerzo con cocas y vino\n11’00 h. Juegos populares\n11’00 h. Solemne Misa con la participación de la Dolça Parranda.\nAl terminar la misa\, actuación del Grupo de Coros y Danzas de Tibi.
URL:https://www.tibi.es/event/romeria-a-la-pedrera-del-nostre-senyor-trobat-3/
LOCATION:Tibi\, Alicante\, 03109 \, Spain
CATEGORIES:Fiestas
ATTACH;FMTTYPE=image/png:https://www.tibi.es/wp-content/uploads/2024/09/Romeria-a-la-Pedrera-2019.png
END:VEVENT
BEGIN:VEVENT
DTSTART;TZID=Europe/Madrid:20191125T120000
DTEND;TZID=Europe/Madrid:20191125T193000
DTSTAMP:20260425T183757
CREATED:20191118T185042Z
LAST-MODIFIED:20241025T093717Z
UID:10000024-1574683200-1574710200@www.tibi.es
SUMMARY:Dia internacional de la eliminación de la violencia contra la mujer
DESCRIPTION:El próximo lunes 25 de noviembre es el Día Internacional de la Eliminación de la Violencia contra la Mujer. \nPROGRAMA\nA las 12 h. Lectura del manifiesto institucional en el Ayuntamiento\nA las 19:30 h Mesa redonda sobre la mujer «si no fuera por ellas» en el local de la tercera edad.\n¡Esperamos vuestra asistencia!
URL:https://www.tibi.es/event/dia-internacional-de-leliminacio-de-la-violencia-contra-la-dona-2/
LOCATION:Tibi\, Alicante\, 03109 \, Spain
CATEGORIES:Mujer
ATTACH;FMTTYPE=image/png:https://www.tibi.es/wp-content/uploads/2024/09/dia-internacional-eliminacio-violencia-contra-la-dona-2019.png
END:VEVENT
BEGIN:VEVENT
DTSTART;TZID=Europe/Madrid:20191124T100000
DTEND;TZID=Europe/Madrid:20191124T200000
DTSTAMP:20260425T183757
CREATED:20191120T161043Z
LAST-MODIFIED:20241025T093718Z
UID:10000028-1574589600-1574625600@www.tibi.es
SUMMARY:Concert S.M. La Magdalena - Santa Cecília 2019
DESCRIPTION:11 h. Recogida de nuevos miembros\n12’30 h. Misa\n18 h. Concierto en el Teatro de la Villa de Tibi \nDirige: Carlos Esteve Domenech
URL:https://www.tibi.es/event/concert-s-m-la-magdalena-santa-cecilia-2019-2/
LOCATION:Tibi\, Alicante\, 03109 \, Spain
CATEGORIES:Cultura y Patrimonio
ATTACH;FMTTYPE=image/jpeg:https://www.tibi.es/wp-content/uploads/2024/09/Aniversari-i-concert-S.M.-La-Magdalena-Novembre-2019.jpg
END:VEVENT
BEGIN:VEVENT
DTSTART;TZID=Europe/Madrid:20191124T080000
DTEND;TZID=Europe/Madrid:20191124T140000
DTSTAMP:20260425T183757
CREATED:20191120T153437Z
LAST-MODIFIED:20241025T093718Z
UID:10000027-1574582400-1574604000@www.tibi.es
SUMMARY:XX Peregrinación “Nostre Senyor Robat” Tibi-Castalla-Onil
DESCRIPTION:Salida en autobús hacia Tibi \n7:00 h.: Desde la Avenida de La Paz de Onil\, frente al Museo de la Muñeca. Se ruega máxima puntualidad\n8:00 h.: (aprox.) Llegada en autobús a Tibi\, donde se realizará la tradicional bendición a los peregrinos antes de iniciar la marcha.\nChocolatada. \nInicio Peregrinación \n8:30 h.: Inicio de la marcha desde Tibi (Plaza de España)\n10:30 h.: Almuerzo (llevar bocadillo)\n11:30 h.: (aprox.) Paso por la Iglesia de Castalla.\n13:00 h. (aprox.) Llegada a Onil. Recepción de autoridades y párroco de Onil. Visita a la Capilla del Nostre Senyor Robat.\nRefrigerio en el Palacio Municipal de Onil. \nINSCRIPCIONES: 7 € por persona (niños hasta 12 años\, 5 €)\nHasta el 20 de noviembre (por la mañana). Plazas limitadas.\nEn Papelería Riber de Tibi\, Centro cultural de Onil\, Tourist Info de Castalla y Periódico Escaparate.
URL:https://www.tibi.es/event/xx-peregrinacion-nostre-senyor-robat-tibi-castalla-onil-2/
LOCATION:Tibi\, Alicante\, 03109 \, Spain
CATEGORIES:Cultura y Patrimonio
ATTACH;FMTTYPE=image/jpeg:https://www.tibi.es/wp-content/uploads/2024/09/XX-Peregrinacion-Nostre-Senyor-Robat-2019.jpg
END:VEVENT
BEGIN:VEVENT
DTSTART;TZID=Europe/Madrid:20191123T120000
DTEND;TZID=Europe/Madrid:20191123T130000
DTSTAMP:20260425T183757
CREATED:20191105T163604Z
LAST-MODIFIED:20241025T093711Z
UID:10000015-1574510400-1574514000@www.tibi.es
SUMMARY:Cuentacuento: Les velletes de la Penya Roja
DESCRIPTION:Por la compañía Farfullit Teatre.
URL:https://www.tibi.es/event/cuentacuento-les-velletes-de-la-penya-roja-2/
LOCATION:Tibi\, Alicante\, 03109 \, Spain
CATEGORIES:Cultura y Patrimonio
ATTACH;FMTTYPE=image/png:https://www.tibi.es/wp-content/uploads/2024/09/Contacontes-Les-velletes-de-la-Penya-Roja-2019.png
END:VEVENT
BEGIN:VEVENT
DTSTART;TZID=Europe/Madrid:20191121T110000
DTEND;TZID=Europe/Madrid:20191121T120000
DTSTAMP:20260425T183757
CREATED:20191115T170911Z
LAST-MODIFIED:20241025T093716Z
UID:10000023-1574334000-1574337600@www.tibi.es
SUMMARY:Club de lectura: Nuevo grupo de mañanas
DESCRIPTION:¿Te gustaría participar en un Club de lectura? La biblioteca pública municipal de Tibi organiza un segundo grupo por las mañanas\, los jueves a partir de las 11 h.\nProponemos un libro\, establecemos un plazo para leerlo entre todos y todas\, y nos juntamos en la fecha prevista para comentar la lectura.
URL:https://www.tibi.es/event/club-de-lectura-nuevo-grupo-de-mananas-2/
LOCATION:Tibi\, Alicante\, 03109 \, Spain
CATEGORIES:Cultura y Patrimonio
ATTACH;FMTTYPE=image/png:https://www.tibi.es/wp-content/uploads/2024/09/Cartell-ANUNCIA-matins-2019.png
END:VEVENT
BEGIN:VEVENT
DTSTART;TZID=Europe/Madrid:20191113T090000
DTEND;TZID=Europe/Madrid:20191113T150000
DTSTAMP:20260425T183757
CREATED:20191108T162424Z
LAST-MODIFIED:20191108T162424Z
UID:10000018-1573635600-1573657200@www.tibi.es
SUMMARY:Cortes de luz
DESCRIPTION:De 9 a 15 horas el corte de luz afectará a las siguientes calles: \n\nCalle la Séquia\nCalle Major\nCalle de d’Alt\nPlaza de la Ferreria\nAvenida de l’Alacantí\nPlaza de España\nPlaza del Cabissol\nCalle del Carreret\nCalle el Raval\nCalle l’Olivar\nCalle Martín Carbonell\nCalle Mestre Tomás Marco\nCalle el Portell\nCalle la Torreta\nCalle els Llorers (sólo números 1 y 1B)
URL:https://www.tibi.es/event/cortes-de-luz-2-2/
LOCATION:Tibi\, Alicante\, 03109 \, Spain
CATEGORIES:Servicios públicos municipales
ATTACH;FMTTYPE=image/jpeg:https://www.tibi.es/wp-content/uploads/2024/09/Corte-de-luz.jpg
END:VEVENT
BEGIN:VEVENT
DTSTART;TZID=Europe/Madrid:20191112T090000
DTEND;TZID=Europe/Madrid:20191112T180000
DTSTAMP:20260425T183757
CREATED:20191108T153609Z
LAST-MODIFIED:20191108T153609Z
UID:10000017-1573549200-1573581600@www.tibi.es
SUMMARY:Cortes de luz
DESCRIPTION:De 9 a 12 horas el corte de luz afectará a las siguientes calles: \n\nCalle la Creu\nPlaza de la Glorieta\nPaseo de la Alameda\nCalle del Diezmo\nAvenida de la Foia de Castalla\nCalle Llarg\nCalle del Mercat\nAvenida de les Llometes (sólo números 18 y 33)\nCalle els Llorers (números impares\, menos el 1 y 1B)\n\nDe 13 a 14 horas el corte de luz afectará a las siguientes calles: \n\nAvenida de les Llometes\nCalle Maestro Enrique Gosálbez\n\nDe 16 a 18 horas el corte de luz afectará a las siguientes calles: \n\nPartida Castillo (2 y 72)\nCalle els Llorers (números pares)\nCalle la Era\nCalle les Parres\nCarretera Tibi-Jijona
URL:https://www.tibi.es/event/cortes-de-luz-3/
LOCATION:Tibi\, Alicante\, 03109 \, Spain
CATEGORIES:Servicios públicos municipales
ATTACH;FMTTYPE=image/jpeg:https://www.tibi.es/wp-content/uploads/2024/09/Corte-de-luz.jpg
END:VEVENT
BEGIN:VEVENT
DTSTART;TZID=Europe/Madrid:20191110T103000
DTEND;TZID=Europe/Madrid:20191110T200000
DTSTAMP:20260425T183757
CREATED:20191109T122012Z
LAST-MODIFIED:20241025T093716Z
UID:10000022-1573381800-1573416000@www.tibi.es
SUMMARY:Expofiesta - 10 de noviembre
DESCRIPTION:El Ayuntamiento de Tibi montará un stand en IFA durante la celebración de Expofiesta para a dar a conocer las fiestas del municipio.\nDomingo 10 de noviembre\n10’30 h Apertura stand\nDegustación de minchos y quesos de Tibi\nTemática: Fiestas en honor a Santa María Magdalena\n12 h Miniencierro con carretones\n20 h Cierre stand
URL:https://www.tibi.es/event/expofiesta-10-de-noviembre-2/
LOCATION:Tibi\, Alicante\, 03109 \, Spain
CATEGORIES:Fiestas,Turismo
ATTACH;FMTTYPE=image/png:https://www.tibi.es/wp-content/uploads/2024/09/Expofiesta-2019-Programa.png
END:VEVENT
BEGIN:VEVENT
DTSTART;TZID=Europe/Madrid:20191109T103000
DTEND;TZID=Europe/Madrid:20191109T210000
DTSTAMP:20260425T183757
CREATED:20191109T121404Z
LAST-MODIFIED:20241025T093715Z
UID:10000021-1573295400-1573333200@www.tibi.es
SUMMARY:Expofiesta - 9 de noviembre
DESCRIPTION:El Ayuntamiento de Tibi montará un stand en IFA durante la celebración de Expofiesta para a dar a conocer las fiestas del municipio.\nSábado 9 de noviembre\n10’30 h Apertura stand\nDegustación de mistela y dulces típicos de Tibi\nTemática: Fiestas de invierno reinado moro y cristiano\n21 h Cierre stand
URL:https://www.tibi.es/event/expofiesta-9-de-noviembre-2/
LOCATION:Tibi\, Alicante\, 03109 \, Spain
CATEGORIES:Fiestas,Turismo
ATTACH;FMTTYPE=image/png:https://www.tibi.es/wp-content/uploads/2024/09/Expofiesta-2019-Programa.png
END:VEVENT
BEGIN:VEVENT
DTSTART;TZID=Europe/Madrid:20191108T203000
DTEND;TZID=Europe/Madrid:20191108T223000
DTSTAMP:20260425T183757
CREATED:20191105T175703Z
LAST-MODIFIED:20241025T093712Z
UID:10000016-1573245000-1573252200@www.tibi.es
SUMMARY:Reunión urgente Comissió de Festes
DESCRIPTION:El Ayuntamiento de Tibi junto a la Comisión de Fiestas convoca el próximo viernes 8 de noviembre a las 20’30 h en el Teatro una reunión urgente. Se ruega la máxima asistencia de peñas y vecinos y vecinas que quieran participar. Es muy importante para decidir el futuro de las fiestas del municipio de Tibi. \n \nORDEN DEL DÍA \n1º Resumen fiestas de Tibi 2019\, organización Mig Any festes de Tibi.\n2º Situación actual y renovación cargos junta comisión de fiestas.\n3º Ruegos y preguntas
URL:https://www.tibi.es/event/reunion-urgente-comissio-de-festes-2/
LOCATION:Tibi\, Alicante\, 03109 \, Spain
CATEGORIES:Fiestas
ATTACH;FMTTYPE=image/jpeg:https://www.tibi.es/wp-content/uploads/2024/09/Reunion-urgente-Comissio-de-Festes-Novembre-2019.jpeg
END:VEVENT
BEGIN:VEVENT
DTSTART;TZID=Europe/Madrid:20191108T103000
DTEND;TZID=Europe/Madrid:20191108T210000
DTSTAMP:20260425T183757
CREATED:20191109T120854Z
LAST-MODIFIED:20241025T093713Z
UID:10000020-1573209000-1573246800@www.tibi.es
SUMMARY:Expofiesta - 8 de noviembre
DESCRIPTION:El Ayuntamiento de Tibi montará un stand en IFA durante la celebración de Expofiesta para a dar a conocer las fiestas del municipio.\nViernes 8 de noviembre\n10’30 h Apertura stand\n12 h Inauguración de Expofiesta. Degustación de pan y embutido de Tibi\nTemática: Fiestas de Semana Santa\n21 h Cierre stand \n \n 
URL:https://www.tibi.es/event/expofiesta-8-de-noviembre-2/
LOCATION:Tibi\, Alicante\, 03109 \, Spain
CATEGORIES:Fiestas,Turismo
ATTACH;FMTTYPE=image/png:https://www.tibi.es/wp-content/uploads/2024/09/Expofiesta-2019-Programa.png
END:VEVENT
BEGIN:VEVENT
DTSTART;TZID=Europe/Madrid:20191104T170000
DTEND;TZID=Europe/Madrid:20191104T203000
DTSTAMP:20260425T183757
CREATED:20191030T144419Z
LAST-MODIFIED:20241025T093711Z
UID:10000013-1572886800-1572899400@www.tibi.es
SUMMARY:Dona sangre en Tibi
DESCRIPTION:Requisitos para poder donar: tener entre 18 y 65 años\, pesar más de 50 kilos y no acudir en ayunas.
URL:https://www.tibi.es/event/dona-sangre-en-tibi-4/
LOCATION:Tibi\, Alicante\, 03109 \, Spain
CATEGORIES:Sanidad
ATTACH;FMTTYPE=image/jpeg:https://www.tibi.es/wp-content/uploads/2024/09/Donacio-Sang-Novembre-2019.jpeg
END:VEVENT
BEGIN:VEVENT
DTSTART;TZID=Europe/Madrid:20191103T110000
DTEND;TZID=Europe/Madrid:20191103T130000
DTSTAMP:20260425T183757
CREATED:20191030T140637Z
LAST-MODIFIED:20241025T093710Z
UID:10000011-1572778800-1572786000@www.tibi.es
SUMMARY:Tiro con arco con el maestro José Picó
DESCRIPTION:¡Vive el deporte en Tibi! ¡Aprovecha las instalaciones deportivas municipales! \n \nOrganiza: Concejalía de deportes del Ayuntamiento de Tibi
URL:https://www.tibi.es/event/tiro-con-arco-con-el-maestro-jose-pico-2/
LOCATION:Tibi\, Alicante\, 03109 \, Spain
CATEGORIES:Deportes
ATTACH;FMTTYPE=image/png:https://www.tibi.es/wp-content/uploads/2024/09/Activitats-esportives-Tir-amb-arc-i-tennis-taula-2019.png
END:VEVENT
BEGIN:VEVENT
DTSTART;TZID=Europe/Madrid:20191030T093000
DTEND;TZID=Europe/Madrid:20191030T123000
DTSTAMP:20260425T183757
CREATED:20191022T095900Z
LAST-MODIFIED:20241025T093710Z
UID:10000010-1572427800-1572438600@www.tibi.es
SUMMARY:Excursión a Alicante
DESCRIPTION:¿Te gustaría descubrir el Alicante que nadie ve?\nVente en bus. Visita guiada. Gratuito. \nSalida a las 9’45 h. desde la parada de bus y regreso a las 12’45 h. desde Alicante.\nInscripciones en el Ayuntamiento. Plazas limitadas.
URL:https://www.tibi.es/event/excursion-a-alicante-2/
LOCATION:Tibi\, Alicante\, 03109 \, Spain
CATEGORIES:Cultura y Patrimonio
ATTACH;FMTTYPE=image/png:https://www.tibi.es/wp-content/uploads/2024/09/Excursion-a-Alicante-Octubre-2019.png
END:VEVENT
BEGIN:VEVENT
DTSTART;TZID=Europe/Madrid:20191026T180000
DTEND;TZID=Europe/Madrid:20191026T200000
DTSTAMP:20260425T183757
CREATED:20191022T085626Z
LAST-MODIFIED:20241025T093709Z
UID:10000008-1572112800-1572120000@www.tibi.es
SUMMARY:Muixeranga d'Alacant
DESCRIPTION:Dentro de las actividades organizadas para la Fira de Tibi\, habrá un taller y demostración de muixerangues donde participará la Muixeranga d’Alacant. \n \nPatrocina: Diputación Provincial de Alicante.
URL:https://www.tibi.es/event/muixeranga-dalacant-2/
LOCATION:Tibi\, Alicante\, 03109 \, Spain
CATEGORIES:Cultura y Patrimonio
ATTACH;FMTTYPE=image/jpeg:https://www.tibi.es/wp-content/uploads/2024/09/Muixeranga-Alacant.jpeg
END:VEVENT
BEGIN:VEVENT
DTSTART;TZID=Europe/Madrid:20191025T180000
DTEND;TZID=Europe/Madrid:20191027T220000
DTSTAMP:20260425T183757
CREATED:20191022T094851Z
LAST-MODIFIED:20241025T093709Z
UID:10000009-1572026400-1572213600@www.tibi.es
SUMMARY:XIV Fira de Tibi: artesanía y oficios
DESCRIPTION:Viernes\, 25 de octubre\n18 h. Apertura del mercado.\n20’30 h. Presentación de la nueva web de Tibi en el hogar del jubilado.\n23 h. Cierre del mercado. \nSábado\, 26 de octubre\n9 h. Ruta senderista: patrimoni de la pedra en sec de la Penya Migjorn. Salida: La Glorieta\n10 h. Apertura del mercado.\n12 h. Pregón a cargo de la reina y damas de las fiestas. A continuación\, inauguración de la Fira a cargo de las autoridades\, acompañadas de la dolçaina i el tabalet.\n14 h. Cierre del mercado.\n17 h. Apertura del mercado.\n18 h. Cercavila\, torres humanes con la Muixeranga d’Alacant.\n20 h. Actuación de la Dolça Parranda en la Glorieta.\n23 h. Cierre del mercado. \nDomingo\, 27 de octubre\n9 h. Ruta senderista: aprofitament de l’aigua i molins del riu verd. Salida: La Glorieta\n10 h. Apertura del mercado.\n14 h. Cierre del mercado.\n17 h. Apertura del mercado.\n19 h. Actuación Coros y danzas en la Glorieta.\n23 h. Cierre del mercado. \n \nEn la Fira habrá un espacio destinado a los productos de la localidad y otro a la artesanía de autor con productos hechos a mano por los participantes\, además de algunos oficios tradicionales de la zona.\nPara los más pequeños habrá talleres participativos de artesanía\, una ludoteca con juegos de mesa y algunas atracciones. \nColabora: Diputación Provincial de Alicante.
URL:https://www.tibi.es/event/xiv-fira-de-tibi-artesania-y-oficios-3/
LOCATION:Tibi\, Alicante\, 03109 \, Spain
CATEGORIES:Turismo
ATTACH;FMTTYPE=image/png:https://www.tibi.es/wp-content/uploads/2024/09/XIV-Fira-de-Tibi-01-e1571649341830-1.png
END:VEVENT
BEGIN:VEVENT
DTSTART;TZID=Europe/Madrid:20191009T090000
DTEND;TZID=Europe/Madrid:20191009T180000
DTSTAMP:20260425T183757
CREATED:20191010T160959Z
LAST-MODIFIED:20241025T093707Z
UID:10000005-1570611600-1570644000@www.tibi.es
SUMMARY:Actos celebración 9 d'octubre
DESCRIPTION:DIA DE LA COMUNITAT VALENCIANA\n9 h. Ruta senderista (Club d’esports de muntanya i escalada)\nSalida desde la plaza de la Glorieta.\nIremos a ver los restos de la edad del bronce en el Cantalar.\n11 h. Espectáculo infantil: Viaja con nosotros (por la compañía l’Oracle de l’Est)\nPlaza del Cabissol.\n12 h. Degustación de postres a la plaza de España (Anem Avant).\n12’30 h. Globotà\n13 h. Bailes y canciones tradicionales (Grupo de coros y danzas de Tibi)\nPlaza de España\n13’30 h. Picaeta popular (Comissió de festes)\n16 h. Cine infantil en valencià: «La revolta dels contes»\nAl Teatre
URL:https://www.tibi.es/event/actos-celebracion-9-doctubre-2/
LOCATION:Tibi\, Alicante\, 03109 \, Spain
CATEGORIES:Cultura y Patrimonio,Fiestas
ATTACH;FMTTYPE=image/png:https://www.tibi.es/wp-content/uploads/2024/09/Nou-Octubre-2019.png
END:VEVENT
BEGIN:VEVENT
DTSTART;TZID=Europe/Madrid:20191004T000000
DTEND;TZID=Europe/Madrid:20191005T000000
DTSTAMP:20260425T183757
CREATED:20191003T094521Z
LAST-MODIFIED:20241025T093706Z
UID:10000004-1570147200-1570233600@www.tibi.es
SUMMARY:Cine infantil y taller de manualidades
DESCRIPTION:Manualidades y cine
URL:https://www.tibi.es/event/cine-infantil-y-taller-de-manualidades-2/
LOCATION:Tibi\, Alicante\, 03109 \, Spain
CATEGORIES:Cultura y Patrimonio
ATTACH;FMTTYPE=image/png:https://www.tibi.es/wp-content/uploads/2024/09/Manualidades-y-cine-2019.png
END:VEVENT
BEGIN:VEVENT
DTSTART;VALUE=DATE:20190922
DTEND;VALUE=DATE:20190923
DTSTAMP:20260425T183757
CREATED:20190923T085742Z
LAST-MODIFIED:20241025T093706Z
UID:10000003-1569110400-1569196799@www.tibi.es
SUMMARY:IV Trail «Volta al pantano de Tibi»
DESCRIPTION:
URL:https://www.tibi.es/event/iv-trail-volta-al-pantano-de-tibi-2/
LOCATION:Alicante
ATTACH;FMTTYPE=image/jpeg:https://www.tibi.es/wp-content/uploads/2024/09/IV-Trail-Volta-al-Panta-Tibi-682x1024-1.jpeg
END:VEVENT
BEGIN:VEVENT
DTSTART;TZID=Europe/Madrid:20190920T180000
DTEND;TZID=Europe/Madrid:20190920T200000
DTSTAMP:20260425T183757
CREATED:20190923T085054Z
LAST-MODIFIED:20241025T093705Z
UID:10000001-1569002400-1569009600@www.tibi.es
SUMMARY:Teatro infantil
DESCRIPTION:
URL:https://www.tibi.es/event/teatro-infantil-2/
LOCATION:Alicante
ATTACH;FMTTYPE=image/png:https://www.tibi.es/wp-content/uploads/2024/09/Teatre-infantil-Mili-2019-1024x731-1.png
END:VEVENT
BEGIN:VEVENT
DTSTART;VALUE=DATE:20190918
DTEND;VALUE=DATE:20190930
DTSTAMP:20260425T183757
CREATED:20190923T085418Z
LAST-MODIFIED:20241025T093706Z
UID:10000002-1568764800-1569801599@www.tibi.es
SUMMARY:425 aniversario «Construcción del pantano de Tibi»
DESCRIPTION:En 1594 se terminó la construcción del pantano de Tibi por lo que este año se cumplen 425 años desde su finalización. Aprovechamos para organizar una serie de charlas y actividades para conmemorar esta fecha.\nEsperamos que sean de vuestro interés y que nos sirvan para aprender un poco más sobre la historia y funcionamiento de nuestro símbolo de identidad por excelencia. \n \nOrganiza: Ajuntament de Tibi\nColaboran: Sindicato de riegos de la huerta de Alicante\, Universidad de Alicante\, Parroquia de Santa Mª Magdalena\, Tibi Vertical\, Club d’esports de muntanya i escalada de Tibi\, MARQ.
URL:https://www.tibi.es/event/425-aniversario-construccion-del-pantano-de-tibi-2/
LOCATION:Alicante
ATTACH;FMTTYPE=image/png:https://www.tibi.es/wp-content/uploads/2024/09/425-Pantano-2019-1024x722-e1571649383634.png
END:VEVENT
END:VCALENDAR