BEGIN:VCALENDAR
VERSION:2.0
PRODID:-//Ayuntamiento de Tibi - ECPv6.15.15//NONSGML v1.0//EN
CALSCALE:GREGORIAN
METHOD:PUBLISH
X-ORIGINAL-URL:https://www.tibi.es
X-WR-CALDESC:Eventos para Ayuntamiento de Tibi
REFRESH-INTERVAL;VALUE=DURATION:PT1H
X-Robots-Tag:noindex
X-PUBLISHED-TTL:PT1H
BEGIN:VTIMEZONE
TZID:Europe/Madrid
BEGIN:DAYLIGHT
TZOFFSETFROM:+0100
TZOFFSETTO:+0200
TZNAME:CEST
DTSTART:20200329T010000
END:DAYLIGHT
BEGIN:STANDARD
TZOFFSETFROM:+0200
TZOFFSETTO:+0100
TZNAME:CET
DTSTART:20201025T010000
END:STANDARD
BEGIN:DAYLIGHT
TZOFFSETFROM:+0100
TZOFFSETTO:+0200
TZNAME:CEST
DTSTART:20210328T010000
END:DAYLIGHT
BEGIN:STANDARD
TZOFFSETFROM:+0200
TZOFFSETTO:+0100
TZNAME:CET
DTSTART:20211031T010000
END:STANDARD
BEGIN:DAYLIGHT
TZOFFSETFROM:+0100
TZOFFSETTO:+0200
TZNAME:CEST
DTSTART:20220327T010000
END:DAYLIGHT
BEGIN:STANDARD
TZOFFSETFROM:+0200
TZOFFSETTO:+0100
TZNAME:CET
DTSTART:20221030T010000
END:STANDARD
BEGIN:DAYLIGHT
TZOFFSETFROM:+0100
TZOFFSETTO:+0200
TZNAME:CEST
DTSTART:20230326T010000
END:DAYLIGHT
BEGIN:STANDARD
TZOFFSETFROM:+0200
TZOFFSETTO:+0100
TZNAME:CET
DTSTART:20231029T010000
END:STANDARD
END:VTIMEZONE
BEGIN:VEVENT
DTSTART;TZID=Europe/Madrid:20221002T100000
DTEND;TZID=Europe/Madrid:20221002T110000
DTSTAMP:20260425T174830
CREATED:20220926T144638Z
LAST-MODIFIED:20241025T093818Z
UID:10000146-1664704800-1664708400@www.tibi.es
SUMMARY:Biodiversidad de ida y vuelta
DESCRIPTION:Ä
URL:https://www.tibi.es/event/63430-2/
LOCATION:Tibi\, Alicante\, 03109 \, Spain
CATEGORIES:Medio ambiente y agricultura
ATTACH;FMTTYPE=image/jpeg:https://www.tibi.es/wp-content/uploads/2024/09/Biodiversidad-de-ida-y-vuelta-Octubre-2022.jpeg
END:VEVENT
BEGIN:VEVENT
DTSTART;TZID=Europe/Madrid:20221001T190000
DTEND;TZID=Europe/Madrid:20221001T200000
DTSTAMP:20260425T174830
CREATED:20220922T055359Z
LAST-MODIFIED:20241025T093818Z
UID:10000145-1664650800-1664654400@www.tibi.es
SUMMARY:Ritmos animalescos per Fàbrica de paraules
DESCRIPTION:
URL:https://www.tibi.es/event/ritmos-animalescos-per-fabrica-de-paraules-2/
LOCATION:Tibi\, Alicante\, 03109 \, Spain
CATEGORIES:Cultura y Patrimonio
ATTACH;FMTTYPE=image/jpeg:https://www.tibi.es/wp-content/uploads/2024/09/Ritmos-animalescos-2022.jpeg
END:VEVENT
BEGIN:VEVENT
DTSTART;TZID=Europe/Madrid:20220925T080000
DTEND;TZID=Europe/Madrid:20220925T140000
DTSTAMP:20260425T174830
CREATED:20220922T054244Z
LAST-MODIFIED:20241025T093817Z
UID:10000144-1664092800-1664114400@www.tibi.es
SUMMARY:V Trail Volta al Pantano de Tibi
DESCRIPTION:
URL:https://www.tibi.es/event/v-trail-volta-al-pantano-de-tibi-2/
LOCATION:Tibi\, Alicante\, 03109 \, Spain
CATEGORIES:Deportes
ATTACH;FMTTYPE=image/jpeg:https://www.tibi.es/wp-content/uploads/2024/09/Trail-Tibi-2022.jpeg
END:VEVENT
BEGIN:VEVENT
DTSTART;TZID=Europe/Madrid:20220924T190000
DTEND;TZID=Europe/Madrid:20220924T203000
DTSTAMP:20260425T174830
CREATED:20220922T050741Z
LAST-MODIFIED:20241025T093817Z
UID:10000142-1664046000-1664051400@www.tibi.es
SUMMARY:Concierto Vivaldi: Las cuatro estaciones
DESCRIPTION:
URL:https://www.tibi.es/event/concierto-vivaldi-las-cuatro-estaciones-2/
LOCATION:Tibi\, Alicante\, 03109 \, Spain
CATEGORIES:Cultura y Patrimonio
ATTACH;FMTTYPE=image/jpeg:https://www.tibi.es/wp-content/uploads/2024/09/Concert-Orquesta-simfonica-Sant-Joan-Tibi-2022.jpeg
END:VEVENT
BEGIN:VEVENT
DTSTART;TZID=Europe/Madrid:20220918T190000
DTEND;TZID=Europe/Madrid:20220918T203000
DTSTAMP:20260425T174830
CREATED:20220913T044249Z
LAST-MODIFIED:20241025T093814Z
UID:10000139-1663527600-1663533000@www.tibi.es
SUMMARY:El show de zapatones
DESCRIPTION:
URL:https://www.tibi.es/event/el-show-de-zapatones-2/
LOCATION:Tibi\, Alicante\, 03109 \, Spain
CATEGORIES:Cultura y Patrimonio
ATTACH;FMTTYPE=image/jpeg:https://www.tibi.es/wp-content/uploads/2024/09/ElShowdeZapatones-1.jpeg
END:VEVENT
BEGIN:VEVENT
DTSTART;TZID=Europe/Madrid:20220702T200000
DTEND;TZID=Europe/Madrid:20220726T080000
DTSTAMP:20260425T174830
CREATED:20220714T051646Z
LAST-MODIFIED:20241025T093813Z
UID:10000138-1656792000-1658822400@www.tibi.es
SUMMARY:Programación actos de Fiestas - Tibi 2022
DESCRIPTION: 
URL:https://www.tibi.es/event/programacion-actos-de-fiestas-tibi-2022-2/
LOCATION:Tibi\, Alicante\, 03109 \, Spain
CATEGORIES:Fiestas
ATTACH;FMTTYPE=image/png:https://www.tibi.es/wp-content/uploads/2024/09/Cartell-Festes-en-Tibi-2022.png
END:VEVENT
BEGIN:VEVENT
DTSTART;TZID=Europe/Madrid:20220604T190000
DTEND;TZID=Europe/Madrid:20220604T203000
DTSTAMP:20260425T174830
CREATED:20220531T081532Z
LAST-MODIFIED:20241025T093812Z
UID:10000137-1654369200-1654374600@www.tibi.es
SUMMARY:ESPECTACLE: Fem i desfem
DESCRIPTION:
URL:https://www.tibi.es/event/espectacle-fem-i-desfem-2/
LOCATION:Tibi\, Alicante\, 03109 \, Spain
CATEGORIES:Cultura y Patrimonio
ATTACH;FMTTYPE=image/jpeg:https://www.tibi.es/wp-content/uploads/2024/09/Fem-i-Desfem-2022.jpg
END:VEVENT
BEGIN:VEVENT
DTSTART;TZID=Europe/Madrid:20220529T100000
DTEND;TZID=Europe/Madrid:20220529T150000
DTSTAMP:20260425T174830
CREATED:20220426T125031Z
LAST-MODIFIED:20241025T093811Z
UID:10000135-1653818400-1653836400@www.tibi.es
SUMMARY:Invitación al "I Encuentro multicultural" en Tibi
DESCRIPTION:Desde el Excmo. Ayuntamiento de Tibi ha nacido una iniciativa que parte del reconocimiento y voluntad de integración de las distintas nacionalidades que convivimos en nuestro término municipal. \nA propuesta del Departamento de Asuntos Sociales\, la Agente de Desarrollo Local y la Concejalía de Participación con un decidido apoyo del Alcalde\, como Concejal de Fiestas\, hemos querido lanzar la propuesta de un encuentro para celebrar la riqueza de la diversidad cultural de nuestra tierra; muchos ciudadanos extranjeros han decidido vivir en Tibi y ese es suficiente motivo de celebración\, en aras de la buena convivencia. \nDado que la mayor parte de extranjeros vive en las urbanizaciones de Tibi\, hemos considerado que ese debería ser el espacio del “I ENCUENTRO MULTICULTURAL; en esta ocasión\, lo celebraremos en el Parque Infantil de la urbanización Finca Terol y para su organización contamos con  la Comunidad de Propietarios Finca Terol y la Asociación de Fiestas Finca Terol. \nPretendemos que este Encuentro por la Diversidad tenga más ediciones\, y se constituya como una festividad característica de nuestro municipio\, con la posibilidad de cambiar de ubicación y colaboradores\, para implicar y unir a toda nuestra población. \nQue sirva esta presentación como INVITACIÓN para el próximo Domingo 29 de Mayo de 10:00h a 15:00h en el Parque Infantil de la Urbanización Terol. Solicitamos vuestra colaboración para difundir el cartel que os hemos enviado\, entre vuestros socios y socias y todos los vecinos de Tibi. Próximamente os ofreceremos más detalles referentes a la organización del “I Encuentro Multicultural”. \nSi deseáis exponer vuestras manualidades y productos artesanales\, este Ayuntamiento dotará de una mesa con sillas a cada participante  para lo que\, debéis enviar un email a juliacartagena@tibi.es indicando el nombre de la persona o asociación que desee exponer\, artículos que expone y número de móvil\, hasta  el 20 de Mayo inclusive\, con el fin de poder adjudicar la ubicación de las mesas. \nEsperamos disfrutar de una bonita y entrañable mañana en esta fiesta primaveral para festejar nuestra riqueza multicultural. Apostamos por la diversidad y la integración. Os saludamos afectuosamente.
URL:https://www.tibi.es/event/invitacion-al-i-encuentro-multicultural-en-tibi-2/
LOCATION:Tibi\, Alicante\, 03109 \, Spain
CATEGORIES:Bienestar Social y Tercera Edad,Fiestas,Participación ciudadana y transparencia
ATTACH;FMTTYPE=image/jpeg:https://www.tibi.es/wp-content/uploads/2024/09/Encuentro-multicultural-Tibi-2022.jpg
END:VEVENT
BEGIN:VEVENT
DTSTART;TZID=Europe/Madrid:20220528T110000
DTEND;TZID=Europe/Madrid:20220528T123000
DTSTAMP:20260425T174830
CREATED:20220524T081313Z
LAST-MODIFIED:20241025T093811Z
UID:10000136-1653735600-1653741000@www.tibi.es
SUMMARY:Taller de estampación para niños de 6 a 12 años
DESCRIPTION:Para poder realizar el taller hay que traer el material que queráis decorar: una camiseta\, una mochila\, unas zapatillas… Eso si\, han de ser de colores blancos y de algodón.
URL:https://www.tibi.es/event/taller-de-estampacion-para-ninos-de-6-a-12-anos-2/
LOCATION:Tibi\, Alicante\, 03109 \, Spain
CATEGORIES:Cultura y Patrimonio
ATTACH;FMTTYPE=image/png:https://www.tibi.es/wp-content/uploads/2024/09/Estampar-camisetes-6-12-2022.png
END:VEVENT
BEGIN:VEVENT
DTSTART;TZID=Europe/Madrid:20220413T080000
DTEND;TZID=Europe/Madrid:20220413T170000
DTSTAMP:20260425T174830
CREATED:20220413T124645Z
LAST-MODIFIED:20241025T093811Z
UID:10000134-1649836800-1649869200@www.tibi.es
SUMMARY:Actos Semana Santa y Pascua - Tibi 2022
DESCRIPTION:
URL:https://www.tibi.es/event/actos-semana-santa-y-pascua-tibi-2022-2/
LOCATION:Tibi\, Alicante\, 03109 \, Spain
CATEGORIES:Fiestas
ATTACH;FMTTYPE=image/jpeg:https://www.tibi.es/wp-content/uploads/2024/09/Setmana-Santa-i-Pasqua-2022.jpg
END:VEVENT
BEGIN:VEVENT
DTSTART;TZID=Europe/Madrid:20220407T080000
DTEND;TZID=Europe/Madrid:20220407T170000
DTSTAMP:20260425T174830
CREATED:20220407T090623Z
LAST-MODIFIED:20241025T093810Z
UID:10000133-1649318400-1649350800@www.tibi.es
SUMMARY:Concierto Semana Santa - Societat Musical La Magdalena Tibi
DESCRIPTION:
URL:https://www.tibi.es/event/concierto-semana-santa-societat-musical-la-magdalena-tibi-2/
LOCATION:Tibi\, Alicante\, 03109 \, Spain
CATEGORIES:Cultura y Patrimonio
ATTACH;FMTTYPE=image/jpeg:https://www.tibi.es/wp-content/uploads/2024/09/Concert-Setmana-Santa-Banda-2022.jpg
END:VEVENT
BEGIN:VEVENT
DTSTART;TZID=Europe/Madrid:20220319T110000
DTEND;TZID=Europe/Madrid:20220319T130000
DTSTAMP:20260425T174830
CREATED:20220314T183106Z
LAST-MODIFIED:20241025T093810Z
UID:10000132-1647687600-1647694800@www.tibi.es
SUMMARY:La magia de los cuentos con Guillermo Avilés
DESCRIPTION:a d
URL:https://www.tibi.es/event/la-magia-de-los-cuentos-con-guillermo-aviles-2/
LOCATION:Tibi\, Alicante\, 03109 \, Spain
CATEGORIES:Cultura y Patrimonio
ATTACH;FMTTYPE=image/jpeg:https://www.tibi.es/wp-content/uploads/2024/09/La-magia-de-los-cuentos-Marc-2022.jpg
END:VEVENT
BEGIN:VEVENT
DTSTART;TZID=Europe/Madrid:20220315T080000
DTEND;TZID=Europe/Madrid:20220330T233000
DTSTAMP:20260425T174830
CREATED:20220314T182246Z
LAST-MODIFIED:20241025T093809Z
UID:10000131-1647331200-1648683000@www.tibi.es
SUMMARY:Encuesta sobre estacionamiento
DESCRIPTION:
URL:https://www.tibi.es/event/63191-2/
LOCATION:Tibi\, Alicante\, 03109 \, Spain
CATEGORIES:Participación ciudadana y transparencia
ATTACH;FMTTYPE=image/jpeg:https://www.tibi.es/wp-content/uploads/2024/09/Enquesta-estacionament-2022.jpeg
END:VEVENT
BEGIN:VEVENT
DTSTART;TZID=Europe/Madrid:20220312T193000
DTEND;TZID=Europe/Madrid:20220312T203000
DTSTAMP:20260425T174830
CREATED:20220309T145829Z
LAST-MODIFIED:20241025T093809Z
UID:10000130-1647113400-1647117000@www.tibi.es
SUMMARY:Teatro: Club de lectura
DESCRIPTION:La compañía De Hoy Para Mañana presenta: Club de lectura. Una obra de Vicente de Ramón y María Crespo. \nSábado\, 12 de marzo de 2022 en el Auditorio Municipal de Tibi.
URL:https://www.tibi.es/event/teatro-club-de-lectura-2/
LOCATION:Tibi\, Alicante\, 03109 \, Spain
CATEGORIES:Cultura y Patrimonio
ATTACH;FMTTYPE=image/jpeg:https://www.tibi.es/wp-content/uploads/2024/09/Teatre-Club-de-lectura-Marc-2022.jpg
END:VEVENT
BEGIN:VEVENT
DTSTART;TZID=Europe/Madrid:20220226T173000
DTEND;TZID=Europe/Madrid:20220226T190000
DTSTAMP:20260425T174830
CREATED:20220222T100426Z
LAST-MODIFIED:20241025T093808Z
UID:10000128-1645896600-1645902000@www.tibi.es
SUMMARY:Carnaval 2022
DESCRIPTION:
URL:https://www.tibi.es/event/carnaval-2022-2/
LOCATION:Tibi\, Alicante\, 03109 \, Spain
CATEGORIES:Cultura y Patrimonio
ATTACH;FMTTYPE=image/jpeg:https://www.tibi.es/wp-content/uploads/2024/09/Carnestoltes-2022.jpg
END:VEVENT
BEGIN:VEVENT
DTSTART;TZID=Europe/Madrid:20220223T193000
DTEND;TZID=Europe/Madrid:20220223T210000
DTSTAMP:20260425T174831
CREATED:20220222T093811Z
LAST-MODIFIED:20241025T093808Z
UID:10000127-1645644600-1645650000@www.tibi.es
SUMMARY:Charla informativa: Ayudas para la digitalización de empresas 2022
DESCRIPTION:
URL:https://www.tibi.es/event/charla-informativa-ayudas-para-la-digitalizacion-de-empresas-2022-3/
LOCATION:Tibi\, Alicante\, 03109 \, Spain
CATEGORIES:Industria y comercio
ATTACH;FMTTYPE=image/jpeg:https://www.tibi.es/wp-content/uploads/2024/09/Xarrada-informativa-Ajudes-a-la-digitalitzacio-empreses-2022.jpg
END:VEVENT
BEGIN:VEVENT
DTSTART;TZID=Europe/Madrid:20220223T090000
DTEND;TZID=Europe/Madrid:20220227T140000
DTSTAMP:20260425T174831
CREATED:20220222T102040Z
LAST-MODIFIED:20241025T093809Z
UID:10000129-1645606800-1645970400@www.tibi.es
SUMMARY:¡Planta un árbol con nosotros!
DESCRIPTION:
URL:https://www.tibi.es/event/planta-un-arbol-con-nosotros-2/
LOCATION:Tibi\, Alicante\, 03109 \, Spain
CATEGORIES:Medio ambiente y agricultura
ATTACH;FMTTYPE=image/jpeg:https://www.tibi.es/wp-content/uploads/2024/09/Dia-del-arbol-2022.jpg
END:VEVENT
BEGIN:VEVENT
DTSTART;TZID=Europe/Madrid:20211126T193000
DTEND;TZID=Europe/Madrid:20211126T210000
DTSTAMP:20260425T174831
CREATED:20211125T171033Z
LAST-MODIFIED:20241025T093807Z
UID:10000125-1637955000-1637960400@www.tibi.es
SUMMARY:Conferencia: Diversidad afectivo sexual\, de género y familiar
DESCRIPTION:
URL:https://www.tibi.es/event/conferencia-diversidad-afectivo-sexual-de-genero-y-familiar-2/
LOCATION:Tibi\, Alicante\, 03109 \, Spain
CATEGORIES:Juventud
ATTACH;FMTTYPE=image/jpeg:https://www.tibi.es/wp-content/uploads/2024/09/Xarrada-diversitat-afectivo-sexual-UA-2021.jpeg
END:VEVENT
BEGIN:VEVENT
DTSTART;TZID=Europe/Madrid:20211121T080000
DTEND;TZID=Europe/Madrid:20211121T140000
DTSTAMP:20260425T174831
CREATED:20211105T154624Z
LAST-MODIFIED:20241025T093807Z
UID:10000124-1637481600-1637503200@www.tibi.es
SUMMARY:XXI Peregrinación Nostre Senyor Robat - Noviembre 2021
DESCRIPTION:Domingo 21 de noviembre de 2021. \nINSCRIPCIONES: Papelería RIBER (Tibi)\nPrecio de la inscripción: 7 € por persona (niños\, hasta 12 años\, 5 €)\nInscripciones hasta el 18 de noviembre (por la mañana). Plazas limitadas. \n 
URL:https://www.tibi.es/event/xxi-peregrinacion-nostre-senyor-robat-noviembre-2021-2/
LOCATION:Tibi\, Alicante\, 03109 \, Spain
CATEGORIES:Cultura y Patrimonio
ATTACH;FMTTYPE=image/png:https://www.tibi.es/wp-content/uploads/2024/09/Peregrinacion-Nostre-Senyor-Robat-2021.png
END:VEVENT
BEGIN:VEVENT
DTSTART;TZID=Europe/Madrid:20211109T180000
DTEND;TZID=Europe/Madrid:20211121T113000
DTSTAMP:20260425T174831
CREATED:20211103T161242Z
LAST-MODIFIED:20241025T093807Z
UID:10000123-1636480800-1637494200@www.tibi.es
SUMMARY:II Jornadas de la infancia - Tibi 2021
DESCRIPTION:
URL:https://www.tibi.es/event/ii-jornadas-de-la-infancia-tibi-2021-2/
LOCATION:Tibi\, Alicante\, 03109 \, Spain
CATEGORIES:Educación
ATTACH;FMTTYPE=image/png:https://www.tibi.es/wp-content/uploads/2024/09/II-Jornadas-infancia-Tibi-2021.png
END:VEVENT
BEGIN:VEVENT
DTSTART;TZID=Europe/Madrid:20211022T200000
DTEND;TZID=Europe/Madrid:20211024T180000
DTSTAMP:20260425T174831
CREATED:20211004T133757Z
LAST-MODIFIED:20241025T093802Z
UID:10000120-1634932800-1635098400@www.tibi.es
SUMMARY:XV  Feria tradicional de artesanía y oficios Tibi
DESCRIPTION:22\, 23 y 24 de octubre de 2021.
URL:https://www.tibi.es/event/xv-feria-tradicional-de-artesania-y-oficios-tibi-2/
LOCATION:Tibi\, Alicante\, 03109 \, Spain
CATEGORIES:Cultura y Patrimonio,Industria y comercio
ATTACH;FMTTYPE=image/jpeg:https://www.tibi.es/wp-content/uploads/2024/09/XV-Fira-de-Tibi-2021.jpg
END:VEVENT
BEGIN:VEVENT
DTSTART;TZID=Europe/Madrid:20211015T170000
DTEND;TZID=Europe/Madrid:20211015T180000
DTSTAMP:20260425T174831
CREATED:20211011T140122Z
LAST-MODIFIED:20241025T093806Z
UID:10000122-1634317200-1634320800@www.tibi.es
SUMMARY:Aprende a utilizar la APP Control foc
DESCRIPTION:
URL:https://www.tibi.es/event/aprende-a-utilizar-la-app-control-foc-2/
LOCATION:Tibi\, Alicante\, 03109 \, Spain
CATEGORIES:Medio ambiente y agricultura
ATTACH;FMTTYPE=image/jpeg:https://www.tibi.es/wp-content/uploads/2024/09/Control-foc.jpg
END:VEVENT
BEGIN:VEVENT
DTSTART;TZID=Europe/Madrid:20211001T130000
DTEND;TZID=Europe/Madrid:20211027T150000
DTSTAMP:20260425T174831
CREATED:20211004T140313Z
LAST-MODIFIED:20241025T093805Z
UID:10000121-1633093200-1635346800@www.tibi.es
SUMMARY:Programa de participación y transparencia - 2021
DESCRIPTION:
URL:https://www.tibi.es/event/programa-de-participacion-y-transparencia-2021-2/
LOCATION:Tibi\, Alicante\, 03109 \, Spain
CATEGORIES:Participación ciudadana y transparencia
ATTACH;FMTTYPE=image/png:https://www.tibi.es/wp-content/uploads/2024/09/Programa-de-participacion-y-transparencia-01-2021.png
END:VEVENT
BEGIN:VEVENT
DTSTART;VALUE=DATE:20210911
DTEND;VALUE=DATE:20210912
DTSTAMP:20260425T174831
CREATED:20210903T062208Z
LAST-MODIFIED:20241025T093801Z
UID:10000119-1631318400-1631404799@www.tibi.es
SUMMARY:Prueba Obeciencia Deportiva de Utilidad (O.D.U.)
DESCRIPTION:
URL:https://www.tibi.es/event/prueba-obeciencia-deportiva-de-utilidad-o-d-u-2/
LOCATION:Tibi\, Alicante\, 03109 \, Spain
CATEGORIES:Deportes
ATTACH;FMTTYPE=image/jpeg:https://www.tibi.es/wp-content/uploads/2024/09/Prueba-ODU-Setembre-2021.jpeg
END:VEVENT
BEGIN:VEVENT
DTSTART;TZID=Europe/Madrid:20210905T190000
DTEND;TZID=Europe/Madrid:20210905T210000
DTSTAMP:20260425T174831
CREATED:20210903T055745Z
LAST-MODIFIED:20241025T093801Z
UID:10000118-1630868400-1630875600@www.tibi.es
SUMMARY:Concierto Dolça Parranda
DESCRIPTION:
URL:https://www.tibi.es/event/concierto-dolca-parranda-2/
LOCATION:Tibi\, Alicante\, 03109 \, Spain
CATEGORIES:Cultura y Patrimonio
ATTACH;FMTTYPE=image/jpeg:https://www.tibi.es/wp-content/uploads/2024/09/Concert-Dolca-Parranda-Setembre-2021.jpeg
END:VEVENT
BEGIN:VEVENT
DTSTART;TZID=Europe/Madrid:20210731T090000
DTEND;TZID=Europe/Madrid:20210731T170000
DTSTAMP:20260425T174831
CREATED:20210706T105419Z
LAST-MODIFIED:20241025T093801Z
UID:10000117-1627722000-1627750800@www.tibi.es
SUMMARY:Jornada d'esports aquàtics - Bus a Santa Pola
DESCRIPTION:
URL:https://www.tibi.es/event/jornada-desports-aquatics-bus-a-santa-pola-2/
LOCATION:Tibi\, Alicante\, 03109 \, Spain
CATEGORIES:Juventud
ATTACH;FMTTYPE=image/png:https://www.tibi.es/wp-content/uploads/2024/09/Jornada-esports-aquatics-Santa-Pola-Juliol-2021.png
END:VEVENT
BEGIN:VEVENT
DTSTART;TZID=Europe/Madrid:20210710T230000
DTEND;TZID=Europe/Madrid:20210711T010000
DTSTAMP:20260425T174831
CREATED:20210706T104825Z
LAST-MODIFIED:20241025T093800Z
UID:10000116-1625958000-1625965200@www.tibi.es
SUMMARY:Correfocs
DESCRIPTION:
URL:https://www.tibi.es/event/correfocs-2/
LOCATION:Tibi\, Alicante\, 03109 \, Spain
CATEGORIES:Cultura y Patrimonio
ATTACH;FMTTYPE=image/png:https://www.tibi.es/wp-content/uploads/2024/09/Correfocs-Juliol-2021.png
END:VEVENT
BEGIN:VEVENT
DTSTART;TZID=Europe/Madrid:20210628T190000
DTEND;TZID=Europe/Madrid:20210628T203000
DTSTAMP:20260425T174831
CREATED:20210625T093146Z
LAST-MODIFIED:20241025T093800Z
UID:10000115-1624906800-1624912200@www.tibi.es
SUMMARY:Club de lectura: Bodas de sangre de Federico García Lorca
DESCRIPTION:
URL:https://www.tibi.es/event/club-de-lectura-bodas-de-sangre-de-federico-garcia-lorca-2/
LOCATION:Tibi\, Alicante\, 03109 \, Spain
CATEGORIES:Cultura y Patrimonio
ATTACH;FMTTYPE=image/png:https://www.tibi.es/wp-content/uploads/2024/09/280621-Bodas-de-sangre.png
END:VEVENT
BEGIN:VEVENT
DTSTART;TZID=Europe/Madrid:20210625T200000
DTEND;TZID=Europe/Madrid:20210625T233000
DTSTAMP:20260425T174831
CREATED:20210625T085631Z
LAST-MODIFIED:20241025T093800Z
UID:10000114-1624651200-1624663800@www.tibi.es
SUMMARY:Senderismo con luna llena
DESCRIPTION:
URL:https://www.tibi.es/event/senderisme-baix-la-lluna-plena-2/
LOCATION:Tibi\, Alicante\, 03109 \, Spain
CATEGORIES:Deportes
ATTACH;FMTTYPE=image/png:https://www.tibi.es/wp-content/uploads/2024/09/Ruta-lluna-plena-Juny-2021.png
END:VEVENT
BEGIN:VEVENT
DTSTART;VALUE=DATE:20210619
DTEND;VALUE=DATE:20210620
DTSTAMP:20260425T174831
CREATED:20210615T044012Z
LAST-MODIFIED:20241025T093800Z
UID:10000113-1624060800-1624147199@www.tibi.es
SUMMARY:Vuelve la piscina municipal: sábado 19 de junio
DESCRIPTION:Entrada gratuita.\nHorario: De 11 a 14 h. y de 16’30 a 20 h.\nACTIVIDADES\nDe 10 a 12 h. Juegos acuáticos\nA las 12’30 h. Cuentacuentos y bibliopiscina
URL:https://www.tibi.es/event/vuelve-la-piscina-municipal-sabado-19-de-junio-2/
LOCATION:Tibi\, Alicante\, 03109 \, Spain
CATEGORIES:Deportes
ATTACH;FMTTYPE=image/jpeg:https://www.tibi.es/wp-content/uploads/2024/09/Apertura-piscina-Juny-2021.jpg
END:VEVENT
END:VCALENDAR