BEGIN:VCALENDAR
VERSION:2.0
PRODID:-//Ayuntamiento de Tibi - ECPv6.15.15//NONSGML v1.0//EN
CALSCALE:GREGORIAN
METHOD:PUBLISH
X-ORIGINAL-URL:https://www.tibi.es
X-WR-CALDESC:Eventos para Ayuntamiento de Tibi
REFRESH-INTERVAL;VALUE=DURATION:PT1H
X-Robots-Tag:noindex
X-PUBLISHED-TTL:PT1H
BEGIN:VTIMEZONE
TZID:Europe/Madrid
BEGIN:DAYLIGHT
TZOFFSETFROM:+0100
TZOFFSETTO:+0200
TZNAME:CEST
DTSTART:20230326T010000
END:DAYLIGHT
BEGIN:STANDARD
TZOFFSETFROM:+0200
TZOFFSETTO:+0100
TZNAME:CET
DTSTART:20231029T010000
END:STANDARD
BEGIN:DAYLIGHT
TZOFFSETFROM:+0100
TZOFFSETTO:+0200
TZNAME:CEST
DTSTART:20240331T010000
END:DAYLIGHT
BEGIN:STANDARD
TZOFFSETFROM:+0200
TZOFFSETTO:+0100
TZNAME:CET
DTSTART:20241027T010000
END:STANDARD
BEGIN:DAYLIGHT
TZOFFSETFROM:+0100
TZOFFSETTO:+0200
TZNAME:CEST
DTSTART:20250330T010000
END:DAYLIGHT
BEGIN:STANDARD
TZOFFSETFROM:+0200
TZOFFSETTO:+0100
TZNAME:CET
DTSTART:20251026T010000
END:STANDARD
END:VTIMEZONE
BEGIN:VEVENT
DTSTART;TZID=Europe/Madrid:20241025T100000
DTEND;TZID=Europe/Madrid:20241027T170000
DTSTAMP:20260425T122913
CREATED:20241216T123917Z
LAST-MODIFIED:20241216T123943Z
UID:10000169-1729850400-1730048400@www.tibi.es
SUMMARY:Tibi celebra la XVIII de la Fira d’artesania
DESCRIPTION:
URL:https://www.tibi.es/event/tibi-celebra-la-xviii-de-la-fira-dartesania/
ATTACH;FMTTYPE=image/jpeg:https://www.tibi.es/wp-content/uploads/2024/12/Fira2024-980x757-1.jpeg
END:VEVENT
END:VCALENDAR