BEGIN:VCALENDAR
VERSION:2.0
PRODID:-//Ayuntamiento de Tibi - ECPv6.15.15//NONSGML v1.0//EN
CALSCALE:GREGORIAN
METHOD:PUBLISH
X-ORIGINAL-URL:https://www.tibi.es
X-WR-CALDESC:Eventos para Ayuntamiento de Tibi
REFRESH-INTERVAL;VALUE=DURATION:PT1H
X-Robots-Tag:noindex
X-PUBLISHED-TTL:PT1H
BEGIN:VTIMEZONE
TZID:Europe/Madrid
BEGIN:DAYLIGHT
TZOFFSETFROM:+0100
TZOFFSETTO:+0200
TZNAME:CEST
DTSTART:20190331T010000
END:DAYLIGHT
BEGIN:STANDARD
TZOFFSETFROM:+0200
TZOFFSETTO:+0100
TZNAME:CET
DTSTART:20191027T010000
END:STANDARD
BEGIN:DAYLIGHT
TZOFFSETFROM:+0100
TZOFFSETTO:+0200
TZNAME:CEST
DTSTART:20200329T010000
END:DAYLIGHT
BEGIN:STANDARD
TZOFFSETFROM:+0200
TZOFFSETTO:+0100
TZNAME:CET
DTSTART:20201025T010000
END:STANDARD
BEGIN:DAYLIGHT
TZOFFSETFROM:+0100
TZOFFSETTO:+0200
TZNAME:CEST
DTSTART:20210328T010000
END:DAYLIGHT
BEGIN:STANDARD
TZOFFSETFROM:+0200
TZOFFSETTO:+0100
TZNAME:CET
DTSTART:20211031T010000
END:STANDARD
BEGIN:DAYLIGHT
TZOFFSETFROM:+0100
TZOFFSETTO:+0200
TZNAME:CEST
DTSTART:20220327T010000
END:DAYLIGHT
BEGIN:STANDARD
TZOFFSETFROM:+0200
TZOFFSETTO:+0100
TZNAME:CET
DTSTART:20221030T010000
END:STANDARD
END:VTIMEZONE
BEGIN:VEVENT
DTSTART;TZID=Europe/Madrid:20210523T100000
DTEND;TZID=Europe/Madrid:20210523T130000
DTSTAMP:20260425T130315
CREATED:20210520T152005Z
LAST-MODIFIED:20241025T093758Z
UID:10000107-1621764000-1621774800@www.tibi.es
SUMMARY:Plogging en Tibi
DESCRIPTION:
URL:https://www.tibi.es/event/plogging-en-tibi-2/
LOCATION:Tibi\, Alicante\, 03109 \, Spain
ATTACH;FMTTYPE=image/jpeg:https://www.tibi.es/wp-content/uploads/2024/09/Plogging-Tibi-Maig-2021.jpeg
END:VEVENT
BEGIN:VEVENT
DTSTART;TZID=Europe/Madrid:20210522T123000
DTEND;TZID=Europe/Madrid:20210522T133000
DTSTAMP:20260425T130315
CREATED:20210520T151440Z
LAST-MODIFIED:20241025T093758Z
UID:10000106-1621686600-1621690200@www.tibi.es
SUMMARY:Espectáculo infantil: Chispita y Agustín descubren las emociones
DESCRIPTION:
URL:https://www.tibi.es/event/espectaculo-infantil-chispita-y-agustin-descubren-las-emociones-2/
LOCATION:Tibi\, Alicante\, 03109 \, Spain
CATEGORIES:Cultura y Patrimonio
ATTACH;FMTTYPE=image/jpeg:https://www.tibi.es/wp-content/uploads/2024/09/Chispita-y-Agustin-descubren-las-emociones-2021.jpeg
END:VEVENT
BEGIN:VEVENT
DTSTART;TZID=Europe/Madrid:20210515T220000
DTEND;TZID=Europe/Madrid:20210515T230000
DTSTAMP:20260425T130315
CREATED:20210506T142752Z
LAST-MODIFIED:20241025T093757Z
UID:10000105-1621116000-1621119600@www.tibi.es
SUMMARY:Correfocs con los Dimonis Rafolins
DESCRIPTION:ACTIVIDAD SUSPENDIDA hasta nueva fecha… \n \n 
URL:https://www.tibi.es/event/correfocs-con-los-dimonis-rafolins-2/
LOCATION:Tibi\, Alicante\, 03109 \, Spain
CATEGORIES:Cultura y Patrimonio
ATTACH;FMTTYPE=image/png:https://www.tibi.es/wp-content/uploads/2024/09/Ajornat-Correfocs-2021.png
END:VEVENT
BEGIN:VEVENT
DTSTART;TZID=Europe/Madrid:20210502T123000
DTEND;TZID=Europe/Madrid:20210502T140000
DTSTAMP:20260425T130315
CREATED:20210427T122449Z
LAST-MODIFIED:20241025T093757Z
UID:10000104-1619958600-1619964000@www.tibi.es
SUMMARY:Art al carrer_Tibi. CONCIERTO: Xeco Rojo
DESCRIPTION:
URL:https://www.tibi.es/event/art-al-carrer_tibi-concert-xeco-rojo-2/
LOCATION:Tibi\, Alicante\, 03109 \, Spain
CATEGORIES:Cultura y Patrimonio
ATTACH;FMTTYPE=image/png:https://www.tibi.es/wp-content/uploads/2024/09/Xeco-Rojo-concert-2021.png
END:VEVENT
BEGIN:VEVENT
DTSTART;VALUE=DATE:20210424
DTEND;VALUE=DATE:20210426
DTSTAMP:20260425T130315
CREATED:20210419T144229Z
LAST-MODIFIED:20241025T093756Z
UID:10000102-1619222400-1619395199@www.tibi.es
SUMMARY:Gran premio internacional BTT Tibi: AM Sonido - Energym
DESCRIPTION:
URL:https://www.tibi.es/event/gran-premio-internacional-btt-tibi-am-sonido-energym-2/
LOCATION:Tibi\, Alicante\, 03109 \, Spain
CATEGORIES:Deportes
ATTACH;FMTTYPE=image/jpeg:https://www.tibi.es/wp-content/uploads/2024/09/cartel-gran-premio-btt-tibi.jpg
END:VEVENT
BEGIN:VEVENT
DTSTART;VALUE=DATE:20210423
DTEND;VALUE=DATE:20210425
DTSTAMP:20260425T130315
CREATED:20210420T121453Z
LAST-MODIFIED:20241025T093756Z
UID:10000103-1619136000-1619308799@www.tibi.es
SUMMARY:Abril\, mes del llibre
DESCRIPTION:La biblioteca pública municipal de Tibi te invita a las actividades programadas en «Abril\, mes del libro».
URL:https://www.tibi.es/event/abril-mes-del-llibre-2/
LOCATION:Tibi\, Alicante\, 03109 \, Spain
CATEGORIES:Cultura y Patrimonio
ATTACH;FMTTYPE=image/png:https://www.tibi.es/wp-content/uploads/2024/09/Abril-mes-del-llibre.png
END:VEVENT
BEGIN:VEVENT
DTSTART;TZID=Europe/Madrid:20210305T110000
DTEND;TZID=Europe/Madrid:20210312T200000
DTSTAMP:20260425T130315
CREATED:20210302T163347Z
LAST-MODIFIED:20241025T093756Z
UID:10000101-1614942000-1615579200@www.tibi.es
SUMMARY:Exposición #noemtoqueselwhatsapp
DESCRIPTION:
URL:https://www.tibi.es/event/exposicion-noemtoqueselwhatsapp-2/
LOCATION:Tibi\, Alicante\, 03109 \, Spain
CATEGORIES:Juventud
ATTACH;FMTTYPE=image/png:https://www.tibi.es/wp-content/uploads/2024/09/Cartel-noemtoqueselwhatsapp.png
END:VEVENT
BEGIN:VEVENT
DTSTART;TZID=Europe/Madrid:20210118T170000
DTEND;TZID=Europe/Madrid:20210118T203000
DTSTAMP:20260425T130315
CREATED:20210115T164207Z
LAST-MODIFIED:20241025T093753Z
UID:10000100-1610989200-1611001800@www.tibi.es
SUMMARY:Dona sangre en Tibi
DESCRIPTION:
URL:https://www.tibi.es/event/62366-2/
LOCATION:Tibi\, Alicante\, 03109 \, Spain
CATEGORIES:Sanidad
ATTACH;FMTTYPE=image/jpeg:https://www.tibi.es/wp-content/uploads/2024/09/Donacio-sang-Gener-2021.jpg
END:VEVENT
BEGIN:VEVENT
DTSTART;TZID=Europe/Madrid:20201213T120000
DTEND;TZID=Europe/Madrid:20201213T130000
DTSTAMP:20260425T130315
CREATED:20201211T142511Z
LAST-MODIFIED:20241025T093753Z
UID:10000099-1607860800-1607864400@www.tibi.es
SUMMARY:Concierto Santa Cecilia y Navidad - S.M. La Magdalena
DESCRIPTION:
URL:https://www.tibi.es/event/concierto-santa-cecilia-y-navidad-s-m-la-magdalena-2/
LOCATION:Tibi\, Alicante\, 03109 \, Spain
CATEGORIES:Cultura y Patrimonio
ATTACH;FMTTYPE=image/jpeg:https://www.tibi.es/wp-content/uploads/2024/09/Concert-Santa-Cecilia-i-Nadal-2020.jpg
END:VEVENT
BEGIN:VEVENT
DTSTART;TZID=Europe/Madrid:20201117T193000
DTEND;TZID=Europe/Madrid:20201117T210000
DTSTAMP:20260425T130315
CREATED:20201116T163811Z
LAST-MODIFIED:20241025T093753Z
UID:10000098-1605641400-1605646800@www.tibi.es
SUMMARY:I Jornadas de la infancia - Tibi 2020
DESCRIPTION:Noviembre 2020\nMartes 17 a las 19’30 h. en la entrada del Ayuntamiento\nCHARLA «Orientaciones y estilos de crianza en la educación infantil» por Carmen Maras. \nInscripción previa en el Ayuntamiento: 965 61 71 02
URL:https://www.tibi.es/event/i-jornadas-de-la-infancia-tibi-2020-2/
LOCATION:Tibi\, Alicante\, 03109 \, Spain
CATEGORIES:Educación
ATTACH;FMTTYPE=image/png:https://www.tibi.es/wp-content/uploads/2024/09/I-Jornades-infancia-Tibi-2020.png
END:VEVENT
BEGIN:VEVENT
DTSTART;TZID=Europe/Madrid:20201114T100000
DTEND;TZID=Europe/Madrid:20201114T140000
DTSTAMP:20260425T130315
CREATED:20201109T171207Z
LAST-MODIFIED:20241025T093752Z
UID:10000097-1605348000-1605362400@www.tibi.es
SUMMARY:VI encuentro emprendedores rurales
DESCRIPTION:Inscripciones: https://fb.me/e/1Em0SBAV3
URL:https://www.tibi.es/event/vi-encuentro-emprendedores-rurales-2/
LOCATION:Tibi\, Alicante\, 03109 \, Spain
CATEGORIES:Industria y comercio
ATTACH;FMTTYPE=image/jpeg:https://www.tibi.es/wp-content/uploads/2024/09/Encuentro-emprendedores-rurales-2020.jpg
END:VEVENT
BEGIN:VEVENT
DTSTART;TZID=Europe/Madrid:20201021T150000
DTEND;TZID=Europe/Madrid:20201021T163000
DTSTAMP:20260425T130315
CREATED:20201016T073359Z
LAST-MODIFIED:20241025T093751Z
UID:10000095-1603292400-1603297800@www.tibi.es
SUMMARY:ITV móvil - octubre 2020: motos\, ciclomotores y vehículos agrícolas
DESCRIPTION:És imprescindible solicitar cita previa.
URL:https://www.tibi.es/event/itv-movil-octubre-2020-motos-ciclomotores-y-vehiculos-agricolas-2/
LOCATION:Tibi\, Alicante\, 03109 \, Spain
CATEGORIES:Seguridad ciudadana
ATTACH;FMTTYPE=image/jpeg:https://www.tibi.es/wp-content/uploads/2024/09/ITV-Octubre-2020.jpg
END:VEVENT
BEGIN:VEVENT
DTSTART;TZID=Europe/Madrid:20201020T200000
DTEND;TZID=Europe/Madrid:20201020T210000
DTSTAMP:20260425T130315
CREATED:20201020T080257Z
LAST-MODIFIED:20241025T093752Z
UID:10000096-1603224000-1603227600@www.tibi.es
SUMMARY:Taller de batucada en Tibi
DESCRIPTION:Taller
URL:https://www.tibi.es/event/taller-de-batucada-en-tibi-2/
LOCATION:Tibi\, Alicante\, 03109 \, Spain
CATEGORIES:Juventud
ATTACH;FMTTYPE=image/jpeg:https://www.tibi.es/wp-content/uploads/2024/09/Taller-Batucada.jpeg
END:VEVENT
BEGIN:VEVENT
DTSTART;TZID=Europe/Madrid:20201018T120000
DTEND;TZID=Europe/Madrid:20201018T133000
DTSTAMP:20260425T130315
CREATED:20201016T064118Z
LAST-MODIFIED:20241025T093751Z
UID:10000094-1603022400-1603027800@www.tibi.es
SUMMARY:Espectáculo: Arritmados reparte amor
DESCRIPTION:
URL:https://www.tibi.es/event/62222-2/
LOCATION:Tibi\, Alicante\, 03109 \, Spain
CATEGORIES:Cultura y Patrimonio
ATTACH;FMTTYPE=image/jpeg:https://www.tibi.es/wp-content/uploads/2024/09/Arritmados-reparte-amor-Octubre-2020.jpg
END:VEVENT
BEGIN:VEVENT
DTSTART;TZID=Europe/Madrid:20201009T120000
DTEND;TZID=Europe/Madrid:20201009T130000
DTSTAMP:20260425T130315
CREATED:20201002T165345Z
LAST-MODIFIED:20241025T093751Z
UID:10000092-1602244800-1602248400@www.tibi.es
SUMMARY:Espectáculo teatral y musical: "El tresor de Benimassot"
DESCRIPTION:
URL:https://www.tibi.es/event/espectaculo-teatral-y-musical-el-tresor-de-benimassot-2/
LOCATION:Tibi\, Alicante\, 03109 \, Spain
CATEGORIES:Cultura y Patrimonio
ATTACH;FMTTYPE=image/jpeg:https://www.tibi.es/wp-content/uploads/2024/09/El-tresor-de-Benimassot-9-octubre.jpeg
END:VEVENT
BEGIN:VEVENT
DTSTART;TZID=Europe/Madrid:20201008T090000
DTEND;TZID=Europe/Madrid:20201008T133000
DTSTAMP:20260425T130315
CREATED:20201008T071734Z
LAST-MODIFIED:20241025T093751Z
UID:10000093-1602147600-1602163800@www.tibi.es
SUMMARY:Instalación del Ecoparque móvil Consorcio Plan Zonal de Residuos 7
DESCRIPTION:JUEVES 8 de octubre tendremos el ECOPARQUE Móvil en la avenida de la Foia de Castalla de TIBI.\nPodrás depositar aceites de cocina\, radiografías\, pilas\, baterías\, dispositivos electrónicos\, juguetes\, productos textiles\, papel\, fluorescentes\, tóners\, DVD\, cíntas de vídeo\, cápsulas de café\, aparatos de vigilancia\, termómetros\, fármacos\, etc. En definitiva\, todo lo que no se puede verter en los contenedores convencionales. También te podrán facilitar toda la información sobre reciclaje.
URL:https://www.tibi.es/event/instalacion-del-ecoparque-movil-consorcio-plan-zonal-de-residuos-7-2/
LOCATION:Tibi\, Alicante\, 03109 \, Spain
CATEGORIES:Medio ambiente y agricultura
ATTACH;FMTTYPE=image/png:https://www.tibi.es/wp-content/uploads/2024/09/Ecoparc-Pla-Zonal-Octubre-2020.png
END:VEVENT
BEGIN:VEVENT
DTSTART;TZID=Europe/Madrid:20200927T110000
DTEND;TZID=Europe/Madrid:20200927T130000
DTSTAMP:20260425T130315
CREATED:20200925T061402Z
LAST-MODIFIED:20241025T093750Z
UID:10000091-1601204400-1601211600@www.tibi.es
SUMMARY:Ciclovía
DESCRIPTION:Los domingos sin coche\, un nuevo espacio para toda la familia.\nDomingo 27 de septiembre: Ciclovía por las calles Practicante Miguel Mira y Mercat de 11 a 13 h. con talleres y manualidades.
URL:https://www.tibi.es/event/ciclovia-2/
LOCATION:Tibi\, Alicante\, 03109 \, Spain
CATEGORIES:Deportes
ATTACH;FMTTYPE=image/jpeg:https://www.tibi.es/wp-content/uploads/2024/09/Ciclovia-Setembre-2020.jpg
END:VEVENT
BEGIN:VEVENT
DTSTART;TZID=Europe/Madrid:20200926T113000
DTEND;TZID=Europe/Madrid:20200926T130000
DTSTAMP:20260425T130315
CREATED:20200922T055328Z
LAST-MODIFIED:20241025T093750Z
UID:10000090-1601119800-1601125200@www.tibi.es
SUMMARY:MedieVALencià
DESCRIPTION:Animación y gymkana de juegos medievales para todas las edades con música popular valenciana en directo.
URL:https://www.tibi.es/event/medievalencia-2/
LOCATION:Tibi\, Alicante\, 03109 \, Spain
CATEGORIES:Cultura y Patrimonio
ATTACH;FMTTYPE=image/jpeg:https://www.tibi.es/wp-content/uploads/2024/09/MedieVALencia-Setembre-2020.jpeg
END:VEVENT
BEGIN:VEVENT
DTSTART;TZID=Europe/Madrid:20200920T190000
DTEND;TZID=Europe/Madrid:20200920T210000
DTSTAMP:20260425T130315
CREATED:20200917T061822Z
LAST-MODIFIED:20241025T093750Z
UID:10000089-1600628400-1600635600@www.tibi.es
SUMMARY:Concierto de la orquesta sinfónica de la S.M. La Paz de Sant Joan d'Alacant
DESCRIPTION:Concierto con motivo del 440 aniversario de la primera piedra del pantano de Tibi.\nColabora: S.M. La Magdalena de Tibi\nPatrocina: Diputación de Alicante
URL:https://www.tibi.es/event/concierto-de-la-orquesta-sinfonica-de-la-s-m-la-paz-de-sant-joan-dalacant-2/
LOCATION:Tibi\, Alicante\, 03109 \, Spain
CATEGORIES:Cultura y Patrimonio
ATTACH;FMTTYPE=image/jpeg:https://www.tibi.es/wp-content/uploads/2024/09/Concert-Orquestra-sinfonica-SM-La-Paz-de-Sant-Joan-Setembre-2020.jpeg
END:VEVENT
BEGIN:VEVENT
DTSTART;TZID=Europe/Madrid:20200918T110000
DTEND;TZID=Europe/Madrid:20200918T123000
DTSTAMP:20260425T130315
CREATED:20200917T060604Z
LAST-MODIFIED:20241025T093749Z
UID:10000088-1600426800-1600432200@www.tibi.es
SUMMARY:Charla sobre el bono social eléctrico
DESCRIPTION:Campaña informativa y de gestión sobre el bono social eléctrico dentro de las jornadas técnicas de difusión sobre los derechos de las personas consumidoras.\nInforma y gestiona: Unión de consumidores de Alicante.
URL:https://www.tibi.es/event/charla-sobre-el-bono-social-electrico-2/
LOCATION:Tibi\, Alicante\, 03109 \, Spain
CATEGORIES:Bienestar Social y Tercera Edad
ATTACH;FMTTYPE=image/jpeg:https://www.tibi.es/wp-content/uploads/2024/09/Xarrada-bono-social-electrico-Setembre-2020.jpg
END:VEVENT
BEGIN:VEVENT
DTSTART;TZID=Europe/Madrid:20200713T183000
DTEND;TZID=Europe/Madrid:20200714T203000
DTSTAMP:20260425T130315
CREATED:20200713T081217Z
LAST-MODIFIED:20241025T093749Z
UID:10000087-1594665000-1594758600@www.tibi.es
SUMMARY:Taller de creatividad aplicada al muro
DESCRIPTION:Los días 13 y 14 de julio organizamos un taller de creatividad para aprender la técnica de pintura sobre muro con el propósito de realizar un mural de recuerdo en el pueblo.\nAunque el taller está dirigido a jóvenes\, puede participar cualquier persona siempre que haya hueco libre.\nPodéis inscribiros al teléfono de la biblioteca: 965617152
URL:https://www.tibi.es/event/taller-de-creatividad-aplicada-al-muro-2/
LOCATION:Tibi\, Alicante\, 03109 \, Spain
CATEGORIES:Juventud
ATTACH;FMTTYPE=image/jpeg:https://www.tibi.es/wp-content/uploads/2024/09/Taller-creatividad-aplicada-al-muro-Joves-Tibi-2020.jpeg
END:VEVENT
BEGIN:VEVENT
DTSTART;TZID=Europe/Madrid:20200703T200000
DTEND;TZID=Europe/Madrid:20200703T210000
DTSTAMP:20260425T130315
CREATED:20200702T101111Z
LAST-MODIFIED:20241025T093749Z
UID:10000086-1593806400-1593810000@www.tibi.es
SUMMARY:Cuentacuentos con la bruja Xocolata
DESCRIPTION: 
URL:https://www.tibi.es/event/contacontes-amb-la-bruixa-xocolata-2/
LOCATION:Tibi\, Alicante\, 03109 \, Spain
CATEGORIES:Cultura y Patrimonio
ATTACH;FMTTYPE=image/png:https://www.tibi.es/wp-content/uploads/2024/09/Contacontes-amb-la-bruixa-Xocolata-Juliol-2020.png
END:VEVENT
BEGIN:VEVENT
DTSTART;TZID=Europe/Madrid:20200702T193000
DTEND;TZID=Europe/Madrid:20200702T210000
DTSTAMP:20260425T130315
CREATED:20200622T174055Z
LAST-MODIFIED:20241025T093748Z
UID:10000085-1593718200-1593723600@www.tibi.es
SUMMARY:Nuevo servicio de atención al consumidor en Tibi
DESCRIPTION:Jornadas técnicas de difusión sobre los derechos de las personas consumidoras.\nJueves 2 de julio a las 19:30 h en el Ayuntamiento\, presentación del nuevo servicio de atención al consumidor.
URL:https://www.tibi.es/event/nuevo-servicio-de-atencion-al-consumidor-en-tibi-2/
LOCATION:Tibi\, Alicante\, 03109 \, Spain
CATEGORIES:Comunicación
ATTACH;FMTTYPE=image/png:https://www.tibi.es/wp-content/uploads/2024/09/Servicio-atencion-al-consumidor.png
END:VEVENT
BEGIN:VEVENT
DTSTART;TZID=Europe/Madrid:20200604T080000
DTEND;TZID=Europe/Madrid:20200604T170000
DTSTAMP:20260425T130315
CREATED:20200604T081043Z
LAST-MODIFIED:20241025T093748Z
UID:10000084-1591257600-1591290000@www.tibi.es
SUMMARY:Club de lectura: "La trenza" de Laetitia Colombani
DESCRIPTION:Lunes 8 de junio a las 19 h. en el paseo de la Santa.
URL:https://www.tibi.es/event/club-de-lectura-la-trenza-de-laetitia-colombani-2/
LOCATION:Tibi\, Alicante\, 03109 \, Spain
CATEGORIES:Cultura y Patrimonio
ATTACH;FMTTYPE=image/png:https://www.tibi.es/wp-content/uploads/2024/09/200608-La-trenza.png
END:VEVENT
BEGIN:VEVENT
DTSTART;TZID=Europe/Madrid:20200504T170000
DTEND;TZID=Europe/Madrid:20200504T200000
DTSTAMP:20260425T130315
CREATED:20200429T102011Z
LAST-MODIFIED:20241025T093747Z
UID:10000082-1588611600-1588622400@www.tibi.es
SUMMARY:Donación de sangre - lunes 4 de mayo 2020
DESCRIPTION:De 17 a 20’30 h. en el edificio de la asociación de hombres y mujeres de la 3ª edad (Paseo de la Santa)
URL:https://www.tibi.es/event/donacion-de-sangre-lunes-4-de-mayo-2020-2/
LOCATION:Tibi\, Alicante\, 03109 \, Spain
CATEGORIES:Sanidad
ATTACH;FMTTYPE=image/jpeg:https://www.tibi.es/wp-content/uploads/2024/09/Donacio-sant-05-2020.jpeg
END:VEVENT
BEGIN:VEVENT
DTSTART;VALUE=DATE:20200424
DTEND;VALUE=DATE:20200513
DTSTAMP:20260425T130315
CREATED:20200429T100551Z
LAST-MODIFIED:20241025T093747Z
UID:10000081-1587686400-1589327999@www.tibi.es
SUMMARY:Vamos a crear un recetario popular
DESCRIPTION:Envía tu receta\, en el formato que quieras.\nSolo te pedimos que esté claro cuáles son los ingredientes necesarios y el proceso de elaboración\, y una foto del plato final. \nEnvíala por correo electrónico a biblioteca@tibi.es o por whatsapp a 654148460 o publícala en las redes sociales nombrando a la biblioteca de Tibi.
URL:https://www.tibi.es/event/vamos-a-crear-un-recetario-popular-2/
LOCATION:Tibi\, Alicante\, 03109 \, Spain
CATEGORIES:Cultura y Patrimonio
ATTACH;FMTTYPE=image/png:https://www.tibi.es/wp-content/uploads/2024/09/Receptari-popular.png
END:VEVENT
BEGIN:VEVENT
DTSTART;VALUE=DATE:20200416
DTEND;VALUE=DATE:20200512
DTSTAMP:20260425T130315
CREATED:20200416T130615Z
LAST-MODIFIED:20241025T093743Z
UID:10000080-1586995200-1589241599@www.tibi.es
SUMMARY:¡EXPRÉSATE! ¿cómo estás viviendo el confinamiento?
DESCRIPTION:¡EXPRÉSATE!\nCoge una hoja en blanco y deja fluir tus sentimientos acumulados de estos días.\nESCRIBE\, DIBUJA\, CREA… ¿cómo estás viviendo estos días en casa? ¿qué te pasa por la cabeza?\nEnvíanos el resultado a biblioteca@tibi.es y haremos una recopilación. Cuando podamos\, haremos una exposición con todos los trabajos presentados.\n¡PARTICIPA tu y toda la familia!
URL:https://www.tibi.es/event/expresate-como-estas-viviendo-el-confinamiento-2/
LOCATION:Tibi\, Alicante\, 03109 \, Spain
CATEGORIES:Cultura y Patrimonio,Deportes
ATTACH;FMTTYPE=image/png:https://www.tibi.es/wp-content/uploads/2024/09/expresate-coronavirus-2020.png
END:VEVENT
BEGIN:VEVENT
DTSTART;TZID=Europe/Madrid:20200409T080000
DTEND;TZID=Europe/Madrid:20200415T210000
DTSTAMP:20260425T130315
CREATED:20200407T124858Z
LAST-MODIFIED:20241025T093743Z
UID:10000079-1586419200-1586984400@www.tibi.es
SUMMARY:Actividades alternativas a la Semana Santa y Pascua 2020
DESCRIPTION:PROGRAMA ACTOS – SEMANA SANTA Y PASCUA TIBI 2020 \nVIERNES 10\n19’30 h. Música de procesión. \nSÁBADO 11\nCONCURSO DE MONAS. El concurso consiste en hacer una foto a las monas que vayamos a preparar o a comernos en casa\, publicarlas en alguna red social y usar la etiqueta #pasquaTibi2020 y nombrar a @Tibiturismo. Las fotografías más originales recibirán un premio especial por parte del Ayuntamiento. \nDOMINGO 12\n7’00 h. Saldremos a los balcones a cantar la Aurora. \nLUNES 13\n¡A COMERSE LA MONA!\nPublica la foto del rincón de tu casa donde tienes pensado comerte la mona. La cocina\, la terraza\, el salón\, el balcón… y nombra a la biblioteca @BPTibi \n\n \n 
URL:https://www.tibi.es/event/actividades-alternativas-a-la-semana-santa-y-pascua-2020-2/
LOCATION:Tibi\, Alicante\, 03109 \, Spain
CATEGORIES:Cultura y Patrimonio
ATTACH;FMTTYPE=image/png:https://www.tibi.es/wp-content/uploads/2024/09/Pasqua-Tibi-2020.png
END:VEVENT
BEGIN:VEVENT
DTSTART;VALUE=DATE:20200331
DTEND;VALUE=DATE:20200401
DTSTAMP:20260425T130316
CREATED:20200313T184706Z
LAST-MODIFIED:20241025T093742Z
UID:10000078-1585612800-1585699199@www.tibi.es
SUMMARY:Suspendida toda la actividad cultural\, deportiva y de ocio
DESCRIPTION:
URL:https://www.tibi.es/event/suspendida-toda-la-actividad-cultural-deportiva-y-de-ocio-2/
LOCATION:Tibi\, Alicante\, 03109 \, Spain
CATEGORIES:Cultura y Patrimonio,Juventud
ATTACH;FMTTYPE=image/png:https://www.tibi.es/wp-content/uploads/2024/09/Biblioteca-i-CIJ-tancats-pel-coronavirus-2020.png
END:VEVENT
BEGIN:VEVENT
DTSTART;TZID=Europe/Madrid:20200311T170000
DTEND;TZID=Europe/Madrid:20200311T190000
DTSTAMP:20260425T130316
CREATED:20200309T192429Z
LAST-MODIFIED:20241025T093742Z
UID:10000077-1583946000-1583953200@www.tibi.es
SUMMARY:Charla informativa sobre el Coronavirus
DESCRIPTION:
URL:https://www.tibi.es/event/charla-informativa-sobre-el-coronavirus-2/
LOCATION:Tibi\, Alicante\, 03109 \, Spain
CATEGORIES:Sanidad
ATTACH;FMTTYPE=image/png:https://www.tibi.es/wp-content/uploads/2024/09/Charla-coronavirus-2020.png
END:VEVENT
END:VCALENDAR